BEGIN:VCALENDAR
VERSION:2.0
PRODID:-//wp-events-plugin.com//7.2.3.1//EN
TZID:Europe/Berlin
X-WR-TIMEZONE:Europe/Berlin
BEGIN:VEVENT
UID:701@teamtrebert.de
DTSTART;TZID=Europe/Berlin:20260713T083000
DTEND;TZID=Europe/Berlin:20260717T130000
DTSTAMP:20260417T061919Z
URL:https://teamtrebert.de/events/3-woche-sommerferien-fortgeschrittene-ab
 -9-jahren/
SUMMARY:3. Woche Sommerferien // fortgeschrittene // ab 9 Jahren
DESCRIPTION:\n\n\n\n\n\n\n5 Tage - inkl. Snack ab 9 Jahre - fortgeschritten
 e Reiter\n\n\n\n\n\n\n\n\nIn unserem Sommerworkshop kann Ihr Kind Abstand 
 zum Alltagsstress nehmen und einfach mal seine Seele baumeln lassen.\nZu z
 weit bekommen die Reitschüler ein Pflegepferd für diese Woche\, dass sie
  gemeinsam putzen\, verwöhnen und reiten dürfen.\nIn Kleingruppen\, auf 
 dem Platz oder im Geländer\, werden die Kinder individuell in ihrem Sitz\
 , ihrer Körperwahrnehmung und der richtigen Einwirkung auf ihr Pony gefö
 rdert.\nDurch die tägliche Theoriestunde wollen wir den jungen Pferdefreu
 nden den artgerechten Umgang mit dem Pferd und die Reitlehre näher bringe
 n.\nUns ist es wichtig unser Partner Pferd als Freund zu sehen und möchte
 n euch das Longieren\, die Bodenarbeit und die ganzen spannenden Erlebniss
 e mit ihnen zeigen und näher bringen.\n\n\n\n\n\n\n
CATEGORIES:Sommerferien
LOCATION:Reitschule Hünstetten\, Bruchweg 7\, Hünstetten\, Hessen\, 65510
 \, Deutschland
X-APPLE-STRUCTURED-LOCATION;VALUE=URI;X-ADDRESS=Bruchweg 7\, Hünstetten\, 
 Hessen\, 65510\, Deutschland;X-APPLE-RADIUS=100;X-TITLE=Reitschule Hünste
 tten:geo:0,0
END:VEVENT
BEGIN:VTIMEZONE
TZID:Europe/Berlin
X-LIC-LOCATION:Europe/Berlin
BEGIN:DAYLIGHT
DTSTART:20260329T030000
TZOFFSETFROM:+0100
TZOFFSETTO:+0200
TZNAME:CEST
END:DAYLIGHT
END:VTIMEZONE
END:VCALENDAR