BEGIN:VCALENDAR
VERSION:2.0
PRODID:-//wp-events-plugin.com//7.2.3.1//EN
TZID:Europe/Berlin
X-WR-TIMEZONE:Europe/Berlin
BEGIN:VEVENT
UID:702@teamtrebert.de
DTSTART;TZID=Europe/Berlin:20260706T090000
DTEND;TZID=Europe/Berlin:20260710T160000
DTSTAMP:20260417T061856Z
URL:https://teamtrebert.de/events/2-woche-sommerferien-fortgeschrittene-ab
 -9-jahren-reitabzeichen-2/
SUMMARY:2. Woche Sommerferien // fortgeschrittene // ab 9 Jahren // + Reita
 bzeichen
DESCRIPTION:\n\n\n\n\n\n\n5 Tage - inkl. Snack und Mittagessen ab 9 Jahre -
 \nfortgeschrittene Reiter - Reitabzeichen 10 – 8 möglich\n\n\n\n\n\n\n\
 n\nIn unserem Sommerworkshop kann Ihr Kind Abstand zum Alltagsstress nehme
 n und einfach mal seine Seele baumeln lassen.\nZu zweit bekommen die Reits
 chüler ein Pflegepferd für diese Woche\, dass sie gemeinsam putzen\, ver
 wöhnen und reiten dürfen.\nIn Kleingruppen\, auf dem Platz oder im Gelä
 nder\, werden die Kinder individuell in ihrem Sitz\, ihrer Körperwahrnehm
 ung und der richtigen Einwirkung auf ihr Pony gefördert.\nDurch die tägl
 iche Theoriestunde wollen wir den jungen Pferdefreunden den artgerechten U
 mgang mit dem Pferd und die Reitlehre näher bringen.\nUns ist es wichtig 
 unser Partner Pferd als Freund zu sehen und möchten euch das Longieren\, 
 die Bodenarbeit und die ganzen spannenden Erlebnisse mit ihnen zeigen und 
 näher bringen.\n\n\n\n\nReitabzeicheninfos:\n\nbitte rufen Sie uns an\, d
 amit wir ihr Kind einteilen können welches Reitabzeichen geeignet ist! \
 nDie Prüfung ist am Donnerstag (Reitabzeichen ist nur möglich bei eine
 r Anmeldung 6 Wochen vor Kursbeginn!)\n\nÜber diesen Link können Sie sic
 h informieren\, was bei der Prüfung abgefragt wird:\n\nhttps://www.pferd-
 aktuell.de/ausbildung/abzeichen-im-pferdesport/reitabzeichen\n\nBei dem Re
 itabzeichen 8 sollten die Kinder alle drei Grundgangarten frei reiten kön
 nen und im besten Fall regelmäßigen Unterricht haben\, um dies vorab sch
 on mal zu trainieren. Wir können in der Vorbereitungswoche vieles nochmal
  wiederholen aber nicht alles beibringen.\n\n\n\nAusfallzeiten Ihrerseits 
 können leider nicht rückerstattet oder nachgeholt werden\, sodass der ko
 mplette Betrag des Workshops / Ausrittes zu zahlen ist.\n\nDie Kursgebühr
  ist bis spätestens 14 Tage vor Kursbeginn zu bezahlen.\nAlle Reiter und 
 Teilnehmer sollten wetterentsprechend gekleidet sein zum Beispiel eine Mat
 schhose für die Kinder. Bei Regen können wir uns im trockenen geschützt
 en Bereich des Stalls aufhalten.\n&nbsp\;\n\n\n\n\n\n\n
CATEGORIES:Sommerferien
LOCATION:Reitschule Hünstetten\, Bruchweg 7\, Hünstetten\, Hessen\, 65510
 \, Deutschland
X-APPLE-STRUCTURED-LOCATION;VALUE=URI;X-ADDRESS=Bruchweg 7\, Hünstetten\, 
 Hessen\, 65510\, Deutschland;X-APPLE-RADIUS=100;X-TITLE=Reitschule Hünste
 tten:geo:0,0
END:VEVENT
BEGIN:VTIMEZONE
TZID:Europe/Berlin
X-LIC-LOCATION:Europe/Berlin
BEGIN:DAYLIGHT
DTSTART:20260329T030000
TZOFFSETFROM:+0100
TZOFFSETTO:+0200
TZNAME:CEST
END:DAYLIGHT
END:VTIMEZONE
END:VCALENDAR